BEGIN:VCALENDAR
VERSION:2.0
PRODID:-//hacksw/handcal//NONSGML v1.0//EN
CALSCALE:GREGORIAN
BEGIN:VEVENT
UID:69ed33b5ae8b2
DTSTAMP:20260425T213549
LOCATION:Ermelo\,Kerkdennen 32
DESCRIPTION:Zondag 20 september van 10.00 tot 16.00 uur ben je van harte welkom om te komen kijken\, te proberen en natuurlijk om in te schrijven voor het nieuwe seizoen bij <a href="https://www.harderwijksezaken.nl/bedrijven/indoorski-en-snowboardcentrum-delphindoorski-ermelo/ons-verhaal" target="_blank">Delphindoorski</a> te Ermelo.
SUMMARY:Opendag Delphindoorski indoorski en snowboard centrum Ermelo
URL;VALUE=URI:https://www.harderwijksezaken.nl/agenda/opendag-delphindoorski-indoorski-en-snowboard-centrum-ermelo-1
DTSTART:20150919T100000
DTEND:20150919T235900
END:VEVENT
END:VCALENDAR
