BEGIN:VCALENDAR
VERSION:2.0
PRODID:-//hacksw/handcal//NONSGML v1.0//EN
CALSCALE:GREGORIAN
BEGIN:VEVENT
UID:69e90155bbd66
DTSTAMP:20260422T171149
LOCATION:Parkeerplaats van restaurant Het Boshuis. \,Sprielderweg 205
DESCRIPTION:Aanmelden is noodzakelijk. In het mystieke bos van de dansende bomen\, het Speulder- en Sprielderbos\, staat Wildarena de Witte Hoogt. Midden in een rustgebied voor het wild ligt deze idyllische plek om wilde dieren te spotten.&nbsp\;
SUMMARY:Wildexcursie naar Wildarena de Witte Hoogt in het Speulderbos
URL;VALUE=URI:https://www.harderwijksezaken.nl/agenda/wildexcursie-naar-wildarena-de-witte-hoogt-in-het-speulderbos
DTSTART:20180916T180000
DTEND:20180916T235900
END:VEVENT
END:VCALENDAR
