BEGIN:VCALENDAR
VERSION:2.0
PRODID:-//hacksw/handcal//NONSGML v1.0//EN
CALSCALE:GREGORIAN
BEGIN:VEVENT
UID:69e8cfb0cd882
DTSTAMP:20260422T134000
LOCATION:MFC de Kiekmure\,Tesselschadelaan  1
DESCRIPTION:Huurdersraad Woonwijs Harderwijk nodigt alle huurders van Uwoon uit voor de jaarvergadering. Die vindt plaats op dinsdag 28 april.
SUMMARY:Uitnodiging huurders
URL;VALUE=URI:https://www.harderwijksezaken.nl/agenda/uitnodiging-huurders
DTSTART:20260428T193000
DTEND:20260428T235900
END:VEVENT
END:VCALENDAR
