BEGIN:VCALENDAR
VERSION:2.0
PRODID:-//hacksw/handcal//NONSGML v1.0//EN
CALSCALE:GREGORIAN
BEGIN:VEVENT
UID:69e6d59e5de78
DTSTAMP:20260421T014046
LOCATION:Plantagekerk\,Stationslaan 136
DESCRIPTION:Aan de vooravond van 4 en 5 mei brengt PodiumPlantage woensdag 29 april de indrukwekkende voorstelling &lsquo\;Waarom Truus?&rsquo\;
SUMMARY:Truus Wijsmuller redde duizenden kinderen 
URL;VALUE=URI:https://www.harderwijksezaken.nl/agenda/truus-wijsmuller-redde-duizenden-kinderen
DTSTART:20260429T200000
DTEND:20260429T235900
END:VEVENT
END:VCALENDAR
