BEGIN:VCALENDAR
VERSION:2.0
PRODID:-//hacksw/handcal//NONSGML v1.0//EN
CALSCALE:GREGORIAN
BEGIN:VEVENT
UID:69eacee7dc01a
DTSTAMP:20260424T020111
LOCATION:Terras Hotel Baars \, Kerkplein Harderwijk\,Kerkplein 1
DESCRIPTION:De reeks zomer concerten van de Beiaard Grote Kerk wordt traditiegetrouw afgesloten door de Harderwijkse stadsbeiaardier Wim Ruitenbeek.&nbsp\;
SUMMARY:Slotconcert zomerreeks Carillon Grote Kerk 
URL;VALUE=URI:https://www.harderwijksezaken.nl/agenda/slotconcert-zomerreeks-carillon-grote-kerk
DTSTART:20240815T193000
DTEND:20240815T203000
END:VEVENT
END:VCALENDAR
