BEGIN:VCALENDAR
VERSION:2.0
PRODID:-//hacksw/handcal//NONSGML v1.0//EN
CALSCALE:GREGORIAN
BEGIN:VEVENT
UID:69eb2bb73428c
DTSTAMP:20260424T083711
LOCATION:Mehmet Akif Ersoy Moskee\,Anna Franklaan 5
DESCRIPTION:Op 24\, 25 en 26 april organiseert de Mehmet Akif Ersoy Moskee de jaarlijkse Open Dagen. De Turkse Moskee aan de Anne Franklaan 5 stelt dan de deuren open om kennis te maken met de Turkse cultuur\, maar beoogt met deze dagen vooral ontmoeting en verbinding.
SUMMARY:Open dagen Turkse moskee Harderwijk
URL;VALUE=URI:https://www.harderwijksezaken.nl/agenda/open-dagen-turkse-moskee-harderwijk
DTSTART:20260424T000000
DTEND:20260426T000000
END:VEVENT
END:VCALENDAR
