BEGIN:VCALENDAR
VERSION:2.0
PRODID:-//hacksw/handcal//NONSGML v1.0//EN
CALSCALE:GREGORIAN
BEGIN:VEVENT
UID:69e99952ebbc8
DTSTAMP:20260423T040018
LOCATION:Sportcafe de Rumels\,Kleine Mheenweg 8
DESCRIPTION:Donderdagavond 24 november organiseert Netwerk Harderwijk Hierden een bijeenkomst in de Rumels in Hierden.
SUMMARY:Netwerk Harderwijk Hierden bijeenkomst in Hierden
URL;VALUE=URI:https://www.harderwijksezaken.nl/agenda/netwerk-harderwijk-hierden-bijeenkomst-in-hierden
DTSTART:19700101T000000
DTEND:20221123T235900
END:VEVENT
END:VCALENDAR
