BEGIN:VCALENDAR
VERSION:2.0
PRODID:-//hacksw/handcal//NONSGML v1.0//EN
CALSCALE:GREGORIAN
BEGIN:VEVENT
UID:69e9bd9c7f7db
DTSTAMP:20260423T063508
LOCATION:Kok Experience Harderwijk en Lelystad\,Hoofdweg 2
DESCRIPTION:&nbsp\;Moederdag bij Kok&nbsp\;Experience in Lelystad: lunch\, borrel\, high wine en diner. In Harderwijk organiseren ze een Moederdagproeverij.
SUMMARY:Moederdag bij Kok Experience Harderwijk en Lelystad
URL;VALUE=URI:https://www.harderwijksezaken.nl/agenda/moederdag-bij-kok-experience-harderwijk-en-lelystad
DTSTART:20240511T110000
DTEND:20240511T235900
END:VEVENT
END:VCALENDAR
