BEGIN:VCALENDAR
VERSION:2.0
PRODID:-//hacksw/handcal//NONSGML v1.0//EN
CALSCALE:GREGORIAN
BEGIN:VEVENT
UID:69eadb27b1673
DTSTAMP:20260424T025327
LOCATION:Theater Harderwijk\,Stationslaan 26
DESCRIPTION:Een van de grootste muziekwerken van de klassieke muziek\; De Mattheus Passie\, vertolkt in een gedurfde en verfrissende bewerking. Een unieke uitvoering waarin klassieke muziek en Latijns-Amerikaanse muziek elkaar ontmoeten.
SUMMARY:Mattheus Passie
URL;VALUE=URI:https://www.harderwijksezaken.nl/agenda/mattheus-passie
DTSTART:19700101T000000
DTEND:20190421T235900
END:VEVENT
END:VCALENDAR
