BEGIN:VCALENDAR
VERSION:2.0
PRODID:-//hacksw/handcal//NONSGML v1.0//EN
CALSCALE:GREGORIAN
BEGIN:VEVENT
UID:69e811efb5782
DTSTAMP:20260422T001023
LOCATION:Catharinakapel\,Klooster 1
DESCRIPTION:We nodigen je van harte uit voor dit inloopconcert om zonder entree te genieten van een diverse reeks concerten\, vari&euml\;rend van zangers en muzikanten tot koren. Van klassiek tot populair\, er is voor elk wat wils in de Kapel in Harderwijk.
SUMMARY:Koffieconcert
URL;VALUE=URI:https://www.harderwijksezaken.nl/agenda/koffieconcert
DTSTART:20260425T100000
DTEND:20260425T235900
END:VEVENT
END:VCALENDAR
