BEGIN:VCALENDAR
VERSION:2.0
PRODID:-//hacksw/handcal//NONSGML v1.0//EN
CALSCALE:GREGORIAN
BEGIN:VEVENT
UID:69ece9d3b8898
DTSTAMP:20260425T162035
LOCATION:Bibliotheek Harderwijk\,Havendam 56
DESCRIPTION:Tegenwoordig kunt u in de trein\, bus\, tram en metro in- en uitchecken met uw contactloze betaalpas\, creditcard of uw mobiele telefoon (OVpay). Reist u liever met de OV-chipkaart of met een kaartje? Dat kan ook nog steeds.&nbsp\;
SUMMARY:Hoe werkt reizen met de betaalpas\, creditcard of mobiele telefoon?
URL;VALUE=URI:https://www.harderwijksezaken.nl/agenda/hoe-werkt-reizen-met-de-betaalpas-creditcard-of-mobiele-telefoon
DTSTART:20241024T100000
DTEND:20241024T235900
END:VEVENT
END:VCALENDAR
