BEGIN:VCALENDAR
VERSION:2.0
PRODID:-//hacksw/handcal//NONSGML v1.0//EN
CALSCALE:GREGORIAN
BEGIN:VEVENT
UID:69eb11759fa0a
DTSTAMP:20260424T064509
LOCATION:Manege Rantrime\,Tweede Parallelweg 1a
DESCRIPTION:Zaterdag 20 december 2025 organiseert Manege Rantrime een Hobbyhorse Wedstrijd voor kinderen tot en met 14 jaar.
SUMMARY:Hobby Horse Wedstrijd Manege Rantrime in Hierden
URL;VALUE=URI:https://www.harderwijksezaken.nl/agenda/hobby-horse-wedstrijd-manege-rantrime-in-hierden
DTSTART:20251220T000000
DTEND:20251220T235900
END:VEVENT
END:VCALENDAR
