BEGIN:VCALENDAR
VERSION:2.0
PRODID:-//hacksw/handcal//NONSGML v1.0//EN
CALSCALE:GREGORIAN
BEGIN:VEVENT
UID:69ea570db141f
DTSTAMP:20260423T172949
LOCATION:Kok CinemaxX\,Hoofdweg 2
DESCRIPTION:De volgende films draaien deze week bij Kok CinemaxX Harderwijk en Lelystad. The Estate\, Stromboli\, Casa Coco\,&nbsp\; de grote Sinterklaas show en nog veel meer. Bekijk ze hieronder.
SUMMARY:Filmoverzicht Kok CinemaxX Harderwijk van 24 tot en met 30 november 2022
URL;VALUE=URI:https://www.harderwijksezaken.nl/agenda/filmoverzicht-kok-cinemaxx-harderwijk-van-24-tot-en-met-30-november-2022
DTSTART:20221123T000000
DTEND:20221129T000000
END:VEVENT
END:VCALENDAR
