BEGIN:VCALENDAR
VERSION:2.0
PRODID:-//hacksw/handcal//NONSGML v1.0//EN
CALSCALE:GREGORIAN
BEGIN:VEVENT
UID:69eb128bd5fe8
DTSTAMP:20260424T064947
LOCATION:Kok CinemaxX\,Hoofdweg 2
DESCRIPTION:Hierbij een overzicht van de films die deze week te zien zijn bij Kok CinemaxX in Harderwijk\; Foodies\, Costa!!\, Doctor Strange\, 2 Kleine kleutertjes en nog veel meer. Bekijk ze hieronder.
SUMMARY:Filmoverzicht Kok CinemaxX Harderwijk van 12 mei tot en met 19 mei 2022
URL;VALUE=URI:https://www.harderwijksezaken.nl/agenda/filmoverzicht-kok-cinemaxx-harderwijk-van-12-mei-tot-en-met-19-mei-2022
DTSTART:20220511T000000
DTEND:20220518T000000
END:VEVENT
END:VCALENDAR
