BEGIN:VCALENDAR
VERSION:2.0
PRODID:-//hacksw/handcal//NONSGML v1.0//EN
CALSCALE:GREGORIAN
BEGIN:VEVENT
UID:69ecfc35c5b72
DTSTAMP:20260425T173901
LOCATION:De vischpoort\,Vischmarkt 1
DESCRIPTION:Hoe de Harderwijker Eibert den Herder zich verzette tegen het laten verdwijnen van de Zuiderzee.<br />
Deze dag staat helemaal in het teken van Eibert den Herder. Op verschillende historische plekken in de stad worden activiteiten georganiseerd.&nbsp\;
SUMMARY:Eibert den Herder festival 
URL;VALUE=URI:https://www.harderwijksezaken.nl/agenda/eibert-den-herder-festival
DTSTART:20180706T000000
DTEND:20180706T235900
END:VEVENT
END:VCALENDAR
