BEGIN:VCALENDAR
VERSION:2.0
PRODID:-//hacksw/handcal//NONSGML v1.0//EN
CALSCALE:GREGORIAN
BEGIN:VEVENT
UID:69e62fe794551
DTSTAMP:20260420T135343
LOCATION:Landgoed Staverden\,Uddelermeerweg 2
DESCRIPTION:Duik in de boeiende historie van dit prachtige landgoed.
SUMMARY:Cultuurhistorische Wandeling Landgoed Staverden
URL;VALUE=URI:https://www.harderwijksezaken.nl/agenda/cultuurhistorische-wandeling-landgoed-staverden
DTSTART:20160430T140000
DTEND:20160430T235900
END:VEVENT
END:VCALENDAR
