BEGIN:VCALENDAR
VERSION:2.0
PRODID:-//hacksw/handcal//NONSGML v1.0//EN
CALSCALE:GREGORIAN
BEGIN:VEVENT
UID:69e85184217b0
DTSTAMP:20260422T044140
LOCATION:Hierden\,Grevenhofsweg 
DESCRIPTION:Zaterdag 2 meio 2026 wordt in Hierden een Classic Racedemo georganiseerd.&nbsp\;Aan de startlijn staan de traditionele inhoudsklassen. De 50cc en 125cc&nbsp\;vanaf 2014 in een gemeenschappelijk klassement\; voorts de 250cc\, de 350cc\,de&nbsp\;500cc\, de 750cc en de zijspannen.
SUMMARY:Classic racedemo Hierden
URL;VALUE=URI:https://www.harderwijksezaken.nl/agenda/classic-racedemo-hierden-2
DTSTART:20260502T100000
DTEND:20260502T235900
END:VEVENT
END:VCALENDAR
