BEGIN:VCALENDAR
VERSION:2.0
PRODID:-//hacksw/handcal//NONSGML v1.0//EN
CALSCALE:GREGORIAN
BEGIN:VEVENT
UID:69ed730c8d931
DTSTAMP:20260426T020604
LOCATION:Hervormde Kerk Hierden\,Zuiderzeestraatweg 
DESCRIPTION:Het Christelijk Hierdens Mannenkoor organiseert op dinsdag 23 december 2025 de jaarlijkse Kerstzangdienst en samenzang in de Hervormde Kerk te Hierden-Dorp. De dienst begint om 19.30 uur\; de kerkdeuren openen om 19.00 uur.
SUMMARY:Christelijk Hierdens Mannenkoor verzorgt Kerstzangdienst op 23 december 2025
URL;VALUE=URI:https://www.harderwijksezaken.nl/agenda/christelijk-hierdens-mannenkoor-verzorgt-kerstzangdienst-op-23-december-2025
DTSTART:20251223T190000
DTEND:20251223T235900
END:VEVENT
END:VCALENDAR
