BEGIN:VCALENDAR
VERSION:2.0
PRODID:-//hacksw/handcal//NONSGML v1.0//EN
CALSCALE:GREGORIAN
BEGIN:VEVENT
UID:69e7423672dae
DTSTAMP:20260421T092406
LOCATION:Tennisvereniging Frankrijk\,Walstein 102
DESCRIPTION:Tennisvereniging Frankrijk organiseert vrijdag 2 juni 2023 een bruisende feestdag voor al hun leden en niet-leden. Iedereen is van harte welkom!
SUMMARY:Bruisende feestdag bij Tennisvereniging Frankrijk
URL;VALUE=URI:https://www.harderwijksezaken.nl/agenda/bruisende-feestdag-bij-tennisvereniging-frankrijk
DTSTART:20230601T160000
DTEND:20230601T235900
END:VEVENT
END:VCALENDAR
