BEGIN:VCALENDAR
VERSION:2.0
PRODID:-//hacksw/handcal//NONSGML v1.0//EN
CALSCALE:GREGORIAN
BEGIN:VEVENT
UID:69eb99180542b
DTSTAMP:20260424T162352
LOCATION:Athlos Harderwijk\,Strokelweg 9
DESCRIPTION:In de wintermaanden en die van het voorjaar zal men weer elke laatste zondag van de maand lekker kunnen hardlopen op een prachtig parcours dat loopt door het Strokelbos van Harderwijk.
SUMMARY:Bosloopcompetitie Athlos Harderwijk
URL;VALUE=URI:https://www.harderwijksezaken.nl/agenda/bosloopcompetitie-athlos-harderwijk
DTSTART:19700101T000000
DTEND:20181027T235900
END:VEVENT
END:VCALENDAR
