BEGIN:VCALENDAR
VERSION:2.0
PRODID:-//hacksw/handcal//NONSGML v1.0//EN
CALSCALE:GREGORIAN
BEGIN:VEVENT
UID:69eb948f0ec0e
DTSTAMP:20260424T160431
LOCATION:Atletiekbaan Athlos\,Strokelweg 9
DESCRIPTION:In de wintermaanden en die van het voorjaar zal men weer elke laatste zondag van de maand lekker kunnen hardlopen op een prachtig parcours dat loopt door het Strokelbos van Harderwijk.
SUMMARY:Bosloopcompetitie Athlos Harderwijk 25 november 2018
URL;VALUE=URI:https://www.harderwijksezaken.nl/agenda/bosloopcompetitie-athlos-harderwijk-1
DTSTART:20181124T103000
DTEND:20181124T235900
END:VEVENT
END:VCALENDAR
