BEGIN:VCALENDAR
VERSION:2.0
PRODID:-//hacksw/handcal//NONSGML v1.0//EN
CALSCALE:GREGORIAN
BEGIN:VEVENT
UID:69ead5a784543
DTSTAMP:20260424T022959
LOCATION:Restaurant Meydani\, 
DESCRIPTION:Het netwerkconcept Bites &amp\; Business\, het netwerk voor ondernemende vrouwen\, is op donderdag 7 mei te gast bij Restaurant Meydani in Nijkerk. Dit keer wordt de avond georganiseerd door Bites &amp\; Business Veluwse Vallei in nauwe samenwerking met Bites &amp\; Business Amersfoort.
SUMMARY:Bites & Business Amersfoort en Bites & Business Veluwse Vallei dineren op 7 mei in Nijkerk bij Restaurant Meydani
URL;VALUE=URI:https://www.harderwijksezaken.nl/agenda/bites-business-amersfoort-en-bites-business-veluwse-vallei-dineren-op-7-mei-in-nijkerk-bij-restaurant-meydani
DTSTART:20260507T190000
DTEND:20260507T235900
END:VEVENT
END:VCALENDAR
