BEGIN:VCALENDAR
VERSION:2.0
PRODID:-//hacksw/handcal//NONSGML v1.0//EN
CALSCALE:GREGORIAN
BEGIN:VEVENT
UID:69eadd52a4f65
DTSTAMP:20260424T030242
LOCATION:Boulevard Harderwijk\, 
DESCRIPTION:Beleef dit evenement aan de Boulevard in Harderwijk op de Veluwe. De Aaltjesdagen vinden hun oorsprong in 1983 en valt van orgine samen met de start van het paling/aal visseizoen.
SUMMARY:Aaltjesdagen Harderwijk
URL;VALUE=URI:https://www.harderwijksezaken.nl/agenda/aaltjesdagen-harderwijk
DTSTART:20150611T000000
DTEND:20150612T000000
END:VEVENT
END:VCALENDAR
