BEGIN:VCALENDAR
VERSION:2.0
PRODID:-//hacksw/handcal//NONSGML v1.0//EN
CALSCALE:GREGORIAN
BEGIN:VEVENT
UID:69eb96c5b4e15
DTSTAMP:20260424T161357
LOCATION:Harderwijk\, 
DESCRIPTION:Het programma van Aaltjesdagen Harderwijk is zo goed als rond. Ook dit jaar wordt de binnenstad van Harderwijk weer getransformeerd in de gezelligste huiskamer van de Veluwe. Onder andere met het Happie Heppie Foodfestival en de traditionele braderie.&nbsp\;
SUMMARY:Aaltjesdagen Harderwijk 2023
URL;VALUE=URI:https://www.harderwijksezaken.nl/agenda/aaltjesdagen-harderwijk-2023
DTSTART:20230608T000000
DTEND:20230610T000000
END:VEVENT
END:VCALENDAR
